BEGIN:VCALENDAR
VERSION:2.0
PRODID:-//Center for Mental Health Implementation Support (CMHIS) - ECPv6.15.20//NONSGML v1.0//EN
CALSCALE:GREGORIAN
METHOD:PUBLISH
X-WR-CALNAME:Center for Mental Health Implementation Support (CMHIS)
X-ORIGINAL-URL:https://www.cmhisupport.org
X-WR-CALDESC:Events for Center for Mental Health Implementation Support (CMHIS)
REFRESH-INTERVAL;VALUE=DURATION:PT1H
X-Robots-Tag:noindex
X-PUBLISHED-TTL:PT1H
BEGIN:VTIMEZONE
TZID:America/New_York
BEGIN:DAYLIGHT
TZOFFSETFROM:-0500
TZOFFSETTO:-0400
TZNAME:EDT
DTSTART:20250309T070000
END:DAYLIGHT
BEGIN:STANDARD
TZOFFSETFROM:-0400
TZOFFSETTO:-0500
TZNAME:EST
DTSTART:20251102T060000
END:STANDARD
BEGIN:DAYLIGHT
TZOFFSETFROM:-0500
TZOFFSETTO:-0400
TZNAME:EDT
DTSTART:20260308T070000
END:DAYLIGHT
BEGIN:STANDARD
TZOFFSETFROM:-0400
TZOFFSETTO:-0500
TZNAME:EST
DTSTART:20261101T060000
END:STANDARD
BEGIN:DAYLIGHT
TZOFFSETFROM:-0500
TZOFFSETTO:-0400
TZNAME:EDT
DTSTART:20270314T070000
END:DAYLIGHT
BEGIN:STANDARD
TZOFFSETFROM:-0400
TZOFFSETTO:-0500
TZNAME:EST
DTSTART:20271107T060000
END:STANDARD
END:VTIMEZONE
BEGIN:VTIMEZONE
TZID:America/Los_Angeles
BEGIN:DAYLIGHT
TZOFFSETFROM:-0800
TZOFFSETTO:-0700
TZNAME:PDT
DTSTART:20250309T100000
END:DAYLIGHT
BEGIN:STANDARD
TZOFFSETFROM:-0700
TZOFFSETTO:-0800
TZNAME:PST
DTSTART:20251102T090000
END:STANDARD
BEGIN:DAYLIGHT
TZOFFSETFROM:-0800
TZOFFSETTO:-0700
TZNAME:PDT
DTSTART:20260308T100000
END:DAYLIGHT
BEGIN:STANDARD
TZOFFSETFROM:-0700
TZOFFSETTO:-0800
TZNAME:PST
DTSTART:20261101T090000
END:STANDARD
BEGIN:DAYLIGHT
TZOFFSETFROM:-0800
TZOFFSETTO:-0700
TZNAME:PDT
DTSTART:20270314T100000
END:DAYLIGHT
BEGIN:STANDARD
TZOFFSETFROM:-0700
TZOFFSETTO:-0800
TZNAME:PST
DTSTART:20271107T090000
END:STANDARD
END:VTIMEZONE
BEGIN:VEVENT
DTSTART;TZID=America/New_York:20260420T120000
DTEND;TZID=America/New_York:20260420T133000
DTSTAMP:20260424T041620
CREATED:20260330T161038Z
LAST-MODIFIED:20260402T195035Z
UID:10000406-1776686400-1776691800@www.cmhisupport.org
SUMMARY:Fostering Fidelity: Building resilience and sustainability into peer support programs
DESCRIPTION:The actions of a successful peer program are a constant process of resourcing\, building and training\, while also doing the work expected by funders\, consumers\, families\, and communities. Fostering Fidelity is an interactive two-part workshop that provides tools\, skills\, and insights that reinforce the strength of the peer support model to realize programs that are resilient\, sustainable\, scalable\, and doable. \nLearning objectives. Upon completion of this two-part workshop\, participants will be able to: \n1. Describe the key areas of focus in peer support programs \n2. Distinguish peer support from other types of interventions \n3. Utilize tools and insights provided to enhance peer support program implementation \n4. Develop a business plan that is better able to provide sustainable peer support services. \nSession Schedule: \nApril 20th | 12:00 – 1:30 pm (ET) \nMay 4th | 12:00 – 1:30 pm (ET) \n  \nThis event is open to HHS Regions 3 and 4\, which include Alabama\, Delaware\, the District of Columbia\, Florida\, Georgia\, Kentucky\, Maryland\, Mississippi\, North Carolina\, Pennsylvania\, South Carolina\, Tennessee\, Virginia\, and West Virginia.
URL:https://www.cmhisupport.org/event/fostering-fidelity-building-resilience-and-sustainability-into-peer-support-programs/2026-04-20/
CATEGORIES:East Coast
ATTACH;FMTTYPE=image/png:https://www.cmhisupport.org/wp-content/uploads/2026/03/Peer-Support.png
END:VEVENT
BEGIN:VEVENT
DTSTART;TZID=America/Los_Angeles:20260420T150000
DTEND;TZID=America/Los_Angeles:20260420T160000
DTSTAMP:20260424T041620
CREATED:20260302T163831Z
LAST-MODIFIED:20260402T181504Z
UID:10000373-1776697200-1776700800@www.cmhisupport.org
SUMMARY:A Step at a Time: Implementing and Sustaining Psychiatric Rehabilitation Practices
DESCRIPTION:*NOTE: This is a 2-part series. Register once to attend both sessions. \nDiscover how psychiatric rehabilitation practices can strengthen your workforce and support trauma‑responsive\, recovery‑oriented care. Join national consultant and practitioner Lamarr Lewis for a dynamic two‑part event designed to help organizations bring Psychiatric Rehabilitation practices to life—and keep them thriving.  \nSession One (4/20) delivers a practical introduction to Psych Rehab\, highlighting the essential ingredients for successful implementation and long‑term sustainment. You’ll learn how to align workflows\, build team capacity\, and create structures that make these practices stick.    \nSession Two (4/27) dives into case examples shaped by attendee priorities. Lamarr will review real‑world case examples shaped by attendee priorities and his professional experience. Lamarr will offer hands‑on guidance\, peer learning opportunities\, and implementation coaching to support ongoing adoption\, troubleshooting\, and fidelity.  \nLearning Objectives  \nAt the end of this two-part series\, participants will be able to:   \n\nIdentify factors that influence implementation and sustainment challenges associated with psychiatric rehabilitation across different settings.  \nRecognize practical strategies and supports that can help teams move from initial adoption toward longer term sustainment.  \nIdentify specific methods that will help them maintain fidelity and sustain service delivery in psychiatric rehabilitation implementation.  \n\nThis event is open to individuals working in HHS Regions 9 or 10: AZ\, CA\, HI\, NV\, AS\, MP\, FM\, GU\, MH\, PW\, AK\, ID\, OR\, or WA. \n\nFacilitator: \n \nLamarr Lewis\, LAPC\, CPRP\, Lewis Family Consulting
URL:https://www.cmhisupport.org/event/a-step-at-a-time-implementing-and-sustaining-psychiatric-rehabilitation-practices/2026-04-20/
CATEGORIES:Pacific West
ATTACH;FMTTYPE=image/png:https://www.cmhisupport.org/wp-content/uploads/2026/03/Psych-rehab.png
END:VEVENT
END:VCALENDAR