BEGIN:VCALENDAR
VERSION:2.0
PRODID:-//Center for Mental Health Implementation Support (CMHIS) - ECPv6.15.20//NONSGML v1.0//EN
CALSCALE:GREGORIAN
METHOD:PUBLISH
X-ORIGINAL-URL:https://www.cmhisupport.org
X-WR-CALDESC:Events for Center for Mental Health Implementation Support (CMHIS)
REFRESH-INTERVAL;VALUE=DURATION:PT1H
X-Robots-Tag:noindex
X-PUBLISHED-TTL:PT1H
BEGIN:VTIMEZONE
TZID:America/Los_Angeles
BEGIN:DAYLIGHT
TZOFFSETFROM:-0800
TZOFFSETTO:-0700
TZNAME:PDT
DTSTART:20240310T100000
END:DAYLIGHT
BEGIN:STANDARD
TZOFFSETFROM:-0700
TZOFFSETTO:-0800
TZNAME:PST
DTSTART:20241103T090000
END:STANDARD
BEGIN:DAYLIGHT
TZOFFSETFROM:-0800
TZOFFSETTO:-0700
TZNAME:PDT
DTSTART:20250309T100000
END:DAYLIGHT
BEGIN:STANDARD
TZOFFSETFROM:-0700
TZOFFSETTO:-0800
TZNAME:PST
DTSTART:20251102T090000
END:STANDARD
BEGIN:DAYLIGHT
TZOFFSETFROM:-0800
TZOFFSETTO:-0700
TZNAME:PDT
DTSTART:20260308T100000
END:DAYLIGHT
BEGIN:STANDARD
TZOFFSETFROM:-0700
TZOFFSETTO:-0800
TZNAME:PST
DTSTART:20261101T090000
END:STANDARD
END:VTIMEZONE
BEGIN:VTIMEZONE
TZID:America/New_York
BEGIN:DAYLIGHT
TZOFFSETFROM:-0500
TZOFFSETTO:-0400
TZNAME:EDT
DTSTART:20240310T070000
END:DAYLIGHT
BEGIN:STANDARD
TZOFFSETFROM:-0400
TZOFFSETTO:-0500
TZNAME:EST
DTSTART:20241103T060000
END:STANDARD
BEGIN:DAYLIGHT
TZOFFSETFROM:-0500
TZOFFSETTO:-0400
TZNAME:EDT
DTSTART:20250309T070000
END:DAYLIGHT
BEGIN:STANDARD
TZOFFSETFROM:-0400
TZOFFSETTO:-0500
TZNAME:EST
DTSTART:20251102T060000
END:STANDARD
BEGIN:DAYLIGHT
TZOFFSETFROM:-0500
TZOFFSETTO:-0400
TZNAME:EDT
DTSTART:20260308T070000
END:DAYLIGHT
BEGIN:STANDARD
TZOFFSETFROM:-0400
TZOFFSETTO:-0500
TZNAME:EST
DTSTART:20261101T060000
END:STANDARD
END:VTIMEZONE
BEGIN:VEVENT
DTSTART;TZID=America/Los_Angeles:20250925T080000
DTEND;TZID=America/Los_Angeles:20250925T090000
DTSTAMP:20260421T102114
CREATED:20250605T001152Z
LAST-MODIFIED:20250730T011831Z
UID:10000020-1758787200-1758790800@www.cmhisupport.org
SUMMARY:Implementing Effective Mental Health Services in Challenging Times
DESCRIPTION:Are you a manager\, leader\, or supervisor of a mental health system\, organization\, or program? \nAre you able to implement changes and innovations within a system\, organization\, or program? \nAre you interested in learning how to overcome barriers in implementing new effective practices and/or sustaining practices? \nCMHIS and our five bi-regional Hubs invite you to apply to participate in a free\, innovative\, three-month learning community. This dynamic\, flexible experience will combine implementation science\, expert insights\, and peer learning. You will be empowered with actionable skills\, proven strategies\, and a network of colleagues to “grow from what works” to implement effective mental health practices and programs. \nSessions will take place every other Thursday at 8 a.m. PT / 11 a.m. ET from July 17 to September 25. To be considered for this learning community\, please submit a brief application by June 20\, 2025.
URL:https://www.cmhisupport.org/event/implementing-effective-mental-health-services-in-challenging-times/2025-09-25/
ATTACH;FMTTYPE=image/png:https://www.cmhisupport.org/wp-content/uploads/2025/06/CMHIS-Learning-Community-Dark-Blue-1.png
END:VEVENT
BEGIN:VEVENT
DTSTART;TZID=America/Los_Angeles:20250911T080000
DTEND;TZID=America/Los_Angeles:20250911T090000
DTSTAMP:20260421T102114
CREATED:20250605T001152Z
LAST-MODIFIED:20250730T011831Z
UID:10000019-1757577600-1757581200@www.cmhisupport.org
SUMMARY:Implementing Effective Mental Health Services in Challenging Times
DESCRIPTION:Are you a manager\, leader\, or supervisor of a mental health system\, organization\, or program? \nAre you able to implement changes and innovations within a system\, organization\, or program? \nAre you interested in learning how to overcome barriers in implementing new effective practices and/or sustaining practices? \nCMHIS and our five bi-regional Hubs invite you to apply to participate in a free\, innovative\, three-month learning community. This dynamic\, flexible experience will combine implementation science\, expert insights\, and peer learning. You will be empowered with actionable skills\, proven strategies\, and a network of colleagues to “grow from what works” to implement effective mental health practices and programs. \nSessions will take place every other Thursday at 8 a.m. PT / 11 a.m. ET from July 17 to September 25. To be considered for this learning community\, please submit a brief application by June 20\, 2025.
URL:https://www.cmhisupport.org/event/implementing-effective-mental-health-services-in-challenging-times/2025-09-11/
ATTACH;FMTTYPE=image/png:https://www.cmhisupport.org/wp-content/uploads/2025/06/CMHIS-Learning-Community-Dark-Blue-1.png
END:VEVENT
BEGIN:VEVENT
DTSTART;TZID=America/Los_Angeles:20250828T080000
DTEND;TZID=America/Los_Angeles:20250828T090000
DTSTAMP:20260421T102114
CREATED:20250605T001152Z
LAST-MODIFIED:20250730T011831Z
UID:10000018-1756368000-1756371600@www.cmhisupport.org
SUMMARY:Implementing Effective Mental Health Services in Challenging Times
DESCRIPTION:Are you a manager\, leader\, or supervisor of a mental health system\, organization\, or program? \nAre you able to implement changes and innovations within a system\, organization\, or program? \nAre you interested in learning how to overcome barriers in implementing new effective practices and/or sustaining practices? \nCMHIS and our five bi-regional Hubs invite you to apply to participate in a free\, innovative\, three-month learning community. This dynamic\, flexible experience will combine implementation science\, expert insights\, and peer learning. You will be empowered with actionable skills\, proven strategies\, and a network of colleagues to “grow from what works” to implement effective mental health practices and programs. \nSessions will take place every other Thursday at 8 a.m. PT / 11 a.m. ET from July 17 to September 25. To be considered for this learning community\, please submit a brief application by June 20\, 2025.
URL:https://www.cmhisupport.org/event/implementing-effective-mental-health-services-in-challenging-times/2025-08-28/
ATTACH;FMTTYPE=image/png:https://www.cmhisupport.org/wp-content/uploads/2025/06/CMHIS-Learning-Community-Dark-Blue-1.png
END:VEVENT
BEGIN:VEVENT
DTSTART;TZID=America/Los_Angeles:20250814T080000
DTEND;TZID=America/Los_Angeles:20250814T090000
DTSTAMP:20260421T102114
CREATED:20250605T001152Z
LAST-MODIFIED:20250730T011831Z
UID:10000017-1755158400-1755162000@www.cmhisupport.org
SUMMARY:Implementing Effective Mental Health Services in Challenging Times
DESCRIPTION:Are you a manager\, leader\, or supervisor of a mental health system\, organization\, or program? \nAre you able to implement changes and innovations within a system\, organization\, or program? \nAre you interested in learning how to overcome barriers in implementing new effective practices and/or sustaining practices? \nCMHIS and our five bi-regional Hubs invite you to apply to participate in a free\, innovative\, three-month learning community. This dynamic\, flexible experience will combine implementation science\, expert insights\, and peer learning. You will be empowered with actionable skills\, proven strategies\, and a network of colleagues to “grow from what works” to implement effective mental health practices and programs. \nSessions will take place every other Thursday at 8 a.m. PT / 11 a.m. ET from July 17 to September 25. To be considered for this learning community\, please submit a brief application by June 20\, 2025.
URL:https://www.cmhisupport.org/event/implementing-effective-mental-health-services-in-challenging-times/2025-08-14/
ATTACH;FMTTYPE=image/png:https://www.cmhisupport.org/wp-content/uploads/2025/06/CMHIS-Learning-Community-Dark-Blue-1.png
END:VEVENT
BEGIN:VEVENT
DTSTART;TZID=America/Los_Angeles:20250731T080000
DTEND;TZID=America/Los_Angeles:20250731T090000
DTSTAMP:20260421T102114
CREATED:20250605T001152Z
LAST-MODIFIED:20250730T011831Z
UID:10000016-1753948800-1753952400@www.cmhisupport.org
SUMMARY:Implementing Effective Mental Health Services in Challenging Times
DESCRIPTION:Are you a manager\, leader\, or supervisor of a mental health system\, organization\, or program? \nAre you able to implement changes and innovations within a system\, organization\, or program? \nAre you interested in learning how to overcome barriers in implementing new effective practices and/or sustaining practices? \nCMHIS and our five bi-regional Hubs invite you to apply to participate in a free\, innovative\, three-month learning community. This dynamic\, flexible experience will combine implementation science\, expert insights\, and peer learning. You will be empowered with actionable skills\, proven strategies\, and a network of colleagues to “grow from what works” to implement effective mental health practices and programs. \nSessions will take place every other Thursday at 8 a.m. PT / 11 a.m. ET from July 17 to September 25. To be considered for this learning community\, please submit a brief application by June 20\, 2025.
URL:https://www.cmhisupport.org/event/implementing-effective-mental-health-services-in-challenging-times/2025-07-31/
ATTACH;FMTTYPE=image/png:https://www.cmhisupport.org/wp-content/uploads/2025/06/CMHIS-Learning-Community-Dark-Blue-1.png
END:VEVENT
BEGIN:VEVENT
DTSTART;TZID=America/Los_Angeles:20250717T080000
DTEND;TZID=America/Los_Angeles:20250717T090000
DTSTAMP:20260421T102114
CREATED:20250605T001152Z
LAST-MODIFIED:20250730T011831Z
UID:10000015-1752739200-1752742800@www.cmhisupport.org
SUMMARY:Implementing Effective Mental Health Services in Challenging Times
DESCRIPTION:Are you a manager\, leader\, or supervisor of a mental health system\, organization\, or program? \nAre you able to implement changes and innovations within a system\, organization\, or program? \nAre you interested in learning how to overcome barriers in implementing new effective practices and/or sustaining practices? \nCMHIS and our five bi-regional Hubs invite you to apply to participate in a free\, innovative\, three-month learning community. This dynamic\, flexible experience will combine implementation science\, expert insights\, and peer learning. You will be empowered with actionable skills\, proven strategies\, and a network of colleagues to “grow from what works” to implement effective mental health practices and programs. \nSessions will take place every other Thursday at 8 a.m. PT / 11 a.m. ET from July 17 to September 25. To be considered for this learning community\, please submit a brief application by June 20\, 2025.
URL:https://www.cmhisupport.org/event/implementing-effective-mental-health-services-in-challenging-times/2025-07-17/
ATTACH;FMTTYPE=image/png:https://www.cmhisupport.org/wp-content/uploads/2025/06/CMHIS-Learning-Community-Dark-Blue-1.png
END:VEVENT
BEGIN:VEVENT
DTSTART;TZID=America/New_York:20250521T160000
DTEND;TZID=America/New_York:20250521T170000
DTSTAMP:20260421T102114
CREATED:20250509T040612Z
LAST-MODIFIED:20250730T012020Z
UID:10000006-1747843200-1747846800@www.cmhisupport.org
SUMMARY:CMHIS Welcome Event
DESCRIPTION:Could you use help implementing effective\, high-quality mental health services? \nWe can provide you with support and guidance to achieve these goals! \nDelivering the most effective mental health services can be challenging. Mental health leaders\, program implementers\, and decision makers can benefit from support to deliver the most effective treatments sustainably. The Center for Mental Health Implementation Support (CMHIS) and our five bi-regional Hubs help systems and organizations navigate the complex process of implementing new mental health practices or ensuring that current practices are delivered effectively. \nJoin us for a welcome event\, where we will describe the free practical\, tailored support we provide to overcome implementation barriers and ensure access to high-quality care. This includes tools and resources tailored to real-world practice and implementation support at the national\, regional\, and local levels. \nBy the end of this event\, attendees will be able to describe CMHIS\, its structure\, and the services it provides; identify how to request implementation support from CMHIS; and outline the process of implementing a new\, effective mental health practice or program.
URL:https://www.cmhisupport.org/event/cmhis-welcome-event/
ATTACH;FMTTYPE=image/png:https://www.cmhisupport.org/wp-content/uploads/2025/05/CMHIS-Welcome-Event-e1746474236830-3.png
END:VEVENT
END:VCALENDAR